BEGIN:VCALENDAR
VERSION:2.0
PRODID:-//wp-events-plugin.com//7.2.3.1//EN
TZID:Europe/Amsterdam
X-WR-TIMEZONE:Europe/Amsterdam
BEGIN:VEVENT
UID:2022@worldglaucomaweek.org
DTSTART;TZID=Europe/Amsterdam:20180315T090000
DTEND;TZID=Europe/Amsterdam:20180317T170000
DTSTAMP:20180310T193238Z
URL:https://www.worldglaucomaweek.org/activity/glaucoma-public-awareness-c
 onference-two-day-screening/
SUMMARY:Glaucoma Public Awareness Conference &amp\; Two-day screening
DESCRIPTION: \n\nShami Eye Center
CATEGORIES:Media coverage
LOCATION:Gallery Ras Al-Ein - Amman\, Gallery Ras Al-Ein\, Amman\, Amman\, 
 Amman\, Jordan
GEO:31.9443466;35.921226899999965
X-APPLE-STRUCTURED-LOCATION;VALUE=URI;X-ADDRESS=Gallery Ras Al-Ein\, Amman\
 , Amman\, Amman\, Jordan;X-APPLE-RADIUS=100;X-TITLE=Gallery Ras Al-Ein - A
 mman:geo:31.9443466,35.921226899999965
END:VEVENT
BEGIN:VTIMEZONE
TZID:Europe/Amsterdam
X-LIC-LOCATION:Europe/Amsterdam
BEGIN:STANDARD
DTSTART:20171029T020000
TZOFFSETFROM:+0200
TZOFFSETTO:+0100
TZNAME:CET
END:STANDARD
END:VTIMEZONE
END:VCALENDAR