BEGIN:VCALENDAR
VERSION:2.0
PRODID:-//wp-events-plugin.com//7.2.3.1//EN
TZID:Europe/Amsterdam
X-WR-TIMEZONE:Europe/Amsterdam
BEGIN:VEVENT
UID:2105@worldglaucomaweek.org
DTSTART;TZID=Europe/Amsterdam;VALUE=DATE:20180312
DTEND;TZID=Europe/Amsterdam;VALUE=DATE:20180318
DTSTAMP:20180312T155938Z
URL:https://www.worldglaucomaweek.org/activity/glaucoma-patient-education-
 2/
SUMMARY:Glaucoma Patient Education
DESCRIPTION:#WorldGlaucomaWeek:  We have educational posters up in both ou
 r office locations. Staff is wearing green ribbons to promote glaucoma awa
 reness - we also have ribbons for our patients
CATEGORIES:Media coverage
LOCATION:Eye Center Of Kenosha\, 9916 75th st \, Kenosha\, WI\, 53402-9737\
 , United States
GEO:42.5677515;-87.92954900000001
X-APPLE-STRUCTURED-LOCATION;VALUE=URI;X-ADDRESS=9916 75th st \, Kenosha\, W
 I\, 53402-9737\, United States;X-APPLE-RADIUS=100;X-TITLE=Eye Center Of Ke
 nosha:geo:42.5677515,-87.92954900000001
END:VEVENT
BEGIN:VTIMEZONE
TZID:Europe/Amsterdam
X-LIC-LOCATION:Europe/Amsterdam
BEGIN:STANDARD
DTSTART:20171029T020000
TZOFFSETFROM:+0200
TZOFFSETTO:+0100
TZNAME:CET
END:STANDARD
END:VTIMEZONE
END:VCALENDAR