BEGIN:VCALENDAR
VERSION:2.0
PRODID:-//wp-events-plugin.com//7.2.3.1//EN
TZID:Europe/Amsterdam
X-WR-TIMEZONE:Europe/Amsterdam
BEGIN:VEVENT
UID:267@worldglaucomaweek.org
DTSTART;TZID=Europe/Amsterdam;VALUE=DATE:20150309
DTEND;TZID=Europe/Amsterdam;VALUE=DATE:20150314
DTSTAMP:20150304T105333Z
URL:https://www.worldglaucomaweek.org/activity/glaucoma-lay-forum-and-scre
 ening-5/
SUMMARY:Glaucoma Lay Forum and Screening
DESCRIPTION:
CATEGORIES:Public educational
LOCATION:De Jesus Eye Clinic\, Santiago City\, Santiago City\, Isabela\, Ph
 ilippines
GEO:16.69653;121.55840999999998
X-APPLE-STRUCTURED-LOCATION;VALUE=URI;X-ADDRESS=Santiago City\, Santiago Ci
 ty\, Isabela\, Philippines;X-APPLE-RADIUS=100;X-TITLE=De Jesus Eye Clinic:
 geo:16.69653,121.55840999999998
END:VEVENT
BEGIN:VTIMEZONE
TZID:Europe/Amsterdam
X-LIC-LOCATION:Europe/Amsterdam
BEGIN:STANDARD
DTSTART:20141026T020000
TZOFFSETFROM:+0200
TZOFFSETTO:+0100
TZNAME:CET
END:STANDARD
END:VTIMEZONE
END:VCALENDAR