BEGIN:VCALENDAR
VERSION:2.0
PRODID:-//wp-events-plugin.com//7.2.3.1//EN
TZID:Europe/Amsterdam
X-WR-TIMEZONE:Europe/Amsterdam
BEGIN:VEVENT
UID:2708@worldglaucomaweek.org
DTSTART;TZID=Europe/Amsterdam:20190311T100000
DTEND;TZID=Europe/Amsterdam:20190311T110000
DTSTAMP:20190307T062912Z
URL:https://www.worldglaucomaweek.org/activity/glaucoma-lay-forum-67/
SUMMARY:Glaucoma Lay Forum
DESCRIPTION:The Department of Ophthalmology of the Ilocos Training and Regi
 onal Medical Center will be holding a lay forum on glaucoma for ophthalmol
 ogy and non-ophthalmology patients at the outpatient department of the hos
 pital.
CATEGORIES:Public educational
LOCATION:Ilocos Training and Regional Medical Center\, Parian\, San Fernand
 o City\, 2500\, La Union\, Philippines
GEO:16.5951156;120.3131717
X-APPLE-STRUCTURED-LOCATION;VALUE=URI;X-ADDRESS=Parian\, San Fernando City\
 , 2500\, La Union\, Philippines;X-APPLE-RADIUS=100;X-TITLE=Ilocos Training
  and Regional Medical Center:geo:16.5951156,120.3131717
END:VEVENT
BEGIN:VTIMEZONE
TZID:Europe/Amsterdam
X-LIC-LOCATION:Europe/Amsterdam
BEGIN:STANDARD
DTSTART:20181028T020000
TZOFFSETFROM:+0200
TZOFFSETTO:+0100
TZNAME:CET
END:STANDARD
END:VTIMEZONE
END:VCALENDAR