BEGIN:VCALENDAR
VERSION:2.0
PRODID:-//wp-events-plugin.com//7.2.3.1//EN
TZID:Europe/Amsterdam
X-WR-TIMEZONE:Europe/Amsterdam
BEGIN:VEVENT
UID:2559@worldglaucomaweek.org
DTSTART;TZID=Europe/Amsterdam:20190313T103000
DTEND;TZID=Europe/Amsterdam:20190313T113000
DTSTAMP:20190226T133108Z
URL:https://www.worldglaucomaweek.org/activity/glaucoma-lay-forum-66/
SUMMARY:Glaucoma Lay Forum
DESCRIPTION:We will be holding a lay forum at our outpatient department to 
 educate our patients and increase their awareness on Glaucoma.
CATEGORIES:Public educational
LOCATION:St. Luke's Medical Center Global City\, Rizal Drive cor. 32nd St a
 nd\, 5th Ave\, Taguig City\, National Capital Region\, National Capital Re
 gion\, Philippines
GEO:14.554281;121.0486065
X-APPLE-STRUCTURED-LOCATION;VALUE=URI;X-ADDRESS=Rizal Drive cor. 32nd St an
 d\, 5th Ave\, Taguig City\, National Capital Region\, National Capital Reg
 ion\, Philippines;X-APPLE-RADIUS=100;X-TITLE=St. Luke's Medical Center Glo
 bal City:geo:14.554281,121.0486065
END:VEVENT
BEGIN:VTIMEZONE
TZID:Europe/Amsterdam
X-LIC-LOCATION:Europe/Amsterdam
BEGIN:STANDARD
DTSTART:20181028T020000
TZOFFSETFROM:+0200
TZOFFSETTO:+0100
TZNAME:CET
END:STANDARD
END:VTIMEZONE
END:VCALENDAR