BEGIN:VCALENDAR
VERSION:2.0
PRODID:-//wp-events-plugin.com//7.2.3.1//EN
TZID:Europe/Amsterdam
X-WR-TIMEZONE:Europe/Amsterdam
BEGIN:VEVENT
UID:2558@worldglaucomaweek.org
DTSTART;TZID=Europe/Amsterdam:20190312T140000
DTEND;TZID=Europe/Amsterdam:20190312T150000
DTSTAMP:20190226T133138Z
URL:https://www.worldglaucomaweek.org/activity/glaucoma-lay-forum-65/
SUMMARY:Glaucoma Lay Forum
DESCRIPTION:We will be holding a lay forum at our outpatient department to 
 educate and increase their awareness on glaucoma.
CATEGORIES:Public educational
LOCATION:St. Luke's Medical Center\, E. Rodriguez Avenue\, Quezon City\, Na
 tional Capital Region\, National Capital Region\, Philippines
GEO:14.6221589;121.02551779999999
X-APPLE-STRUCTURED-LOCATION;VALUE=URI;X-ADDRESS=E. Rodriguez Avenue\, Quezo
 n City\, National Capital Region\, National Capital Region\, Philippines;X
 -APPLE-RADIUS=100;X-TITLE=St. Luke's Medical Center:geo:14.6221589,121.025
 51779999999
END:VEVENT
BEGIN:VTIMEZONE
TZID:Europe/Amsterdam
X-LIC-LOCATION:Europe/Amsterdam
BEGIN:STANDARD
DTSTART:20181028T020000
TZOFFSETFROM:+0200
TZOFFSETTO:+0100
TZNAME:CET
END:STANDARD
END:VTIMEZONE
END:VCALENDAR