BEGIN:VCALENDAR
VERSION:2.0
PRODID:-//wp-events-plugin.com//7.2.3.1//EN
TZID:Europe/Amsterdam
X-WR-TIMEZONE:Europe/Amsterdam
BEGIN:VEVENT
UID:1909@worldglaucomaweek.org
DTSTART;TZID=Europe/Amsterdam:20180314T100000
DTEND;TZID=Europe/Amsterdam:20180314T114500
DTSTAMP:20180307T015511Z
URL:https://www.worldglaucomaweek.org/activity/glaucoma-lay-forum-64/
SUMMARY:Glaucoma Lay Forum
DESCRIPTION:Glaucoma information forum for patients and the public. Pamphle
 ts and snacks will be distributed also.
CATEGORIES:Public educational
LOCATION:Las Pinas Doctors Hospital\, Pulang Lupa Dos\, LasPinas\, Philippi
 nes
GEO:14.461196;120.98619810000002
X-APPLE-STRUCTURED-LOCATION;VALUE=URI;X-ADDRESS=Pulang Lupa Dos\, LasPinas\
 , Philippines;X-APPLE-RADIUS=100;X-TITLE=Las Pinas Doctors Hospital:geo:14
 .461196,120.98619810000002
END:VEVENT
BEGIN:VTIMEZONE
TZID:Europe/Amsterdam
X-LIC-LOCATION:Europe/Amsterdam
BEGIN:STANDARD
DTSTART:20171029T020000
TZOFFSETFROM:+0200
TZOFFSETTO:+0100
TZNAME:CET
END:STANDARD
END:VTIMEZONE
END:VCALENDAR