BEGIN:VCALENDAR
VERSION:2.0
PRODID:-//wp-events-plugin.com//7.2.3.1//EN
TZID:Europe/Amsterdam
X-WR-TIMEZONE:Europe/Amsterdam
BEGIN:VEVENT
UID:2032@worldglaucomaweek.org
DTSTART;TZID=Europe/Amsterdam;VALUE=DATE:20180312
DTEND;TZID=Europe/Amsterdam;VALUE=DATE:20180317
DTSTAMP:20180310T000800Z
URL:https://www.worldglaucomaweek.org/activity/glaucoma-free-scrineening/
SUMMARY:Glaucoma free scrineening
DESCRIPTION:Glaucoma free scrineening
CATEGORIES:Screening event
LOCATION:City Clinical Hospital # 2 (MBUZ GKB#2)\, Russian street\, 200\, C
 helyabinsk\, Russia\, 454080\, Chelyabinsk region\, Russia
GEO:55.16152741366662;61.4159916960358
X-APPLE-STRUCTURED-LOCATION;VALUE=URI;X-ADDRESS=Russian street\, 200\, Chel
 yabinsk\, Russia\, 454080\, Chelyabinsk region\, Russia;X-APPLE-RADIUS=100
 ;X-TITLE=City Clinical Hospital # 2 (MBUZ GKB#2):geo:55.16152741366662,61.
 4159916960358
END:VEVENT
BEGIN:VTIMEZONE
TZID:Europe/Amsterdam
X-LIC-LOCATION:Europe/Amsterdam
BEGIN:STANDARD
DTSTART:20171029T020000
TZOFFSETFROM:+0200
TZOFFSETTO:+0100
TZNAME:CET
END:STANDARD
END:VTIMEZONE
END:VCALENDAR