BEGIN:VCALENDAR
VERSION:2.0
PRODID:-//wp-events-plugin.com//7.2.3.1//EN
TZID:Europe/Amsterdam
X-WR-TIMEZONE:Europe/Amsterdam
BEGIN:VEVENT
UID:2453@worldglaucomaweek.org
DTSTART;TZID=Europe/Amsterdam:20190314T090000
DTEND;TZID=Europe/Amsterdam:20190314T170000
DTSTAMP:20190225T151732Z
URL:https://www.worldglaucomaweek.org/activity/glaucoma-free-screening-day
 /
SUMMARY:Glaucoma free screening day
DESCRIPTION:Journée de dépistage gratuit du glaucome\, jeudi 14 mars 2019
 \n\nL’Hôpital ophtalmique Jules-Gonin\, service universitaire d'ophtalm
 ologie\, organise une journée de dépistage gratuit et d’information su
 r le glaucome le jeudi 14 mars\, de 9h à 17h.\n\nVoleur silencieux de la 
 vue\n\nPremière cause de cécité irréversible au monde\, le glaucome es
 t une maladie oculaire qui touche principalement les personnes de plus de 
 40 ans.\n\nL’Hôpital ophtalmique  met à disposition des visiteurs des
  tests et du matériel d’examen sophistiqués. 10 ophtalmologues et 40 s
 oignants spécialiste de la vision (optométristes\, orthoptistes\, photog
 raphes spécialisés en imagerie\, etc.)\n\nL’importance de la préventi
 on\n\n« On estime que la moitié des personnes atteintes de glaucome ne 
 sont pas diagnostiquées\, d’où l’importance de la prévention ! »
 \, ajoute encore la Dre Gkaragkani. Dès 40 ans\, il est conseillé de se 
 faire contrôler les yeux tous les trois ans.\n\nQuelques facteurs de risq
 ues \n\n 	Âge (plus de 40 ans)\n 	Antécédents familiaux de glaucome\n 	
 Forte myopie\n 	Traumatisme antérieur de l’œil (accident par exemple)\
 n 	Utilisation de cortisone à long terme\n 	Migraine ou troubles circulat
 oires\n\nAprès avoir organisé une journée de dépistage spécialement d
 édiée aux enfants en 2018\, année de son 175e anniversaire\, l’Hôpit
 al ophtalmique Jules-Gonin entend bien poursuivre sa mission de santé com
 munautaire\, fidèle à la vision de ses fondateurs.
ATTACH;FMTTYPE=image/jpeg:https://www.worldglaucomaweek.org/wp-content/upl
 oads/2019/02/Depistage-Actu_2.jpg
CATEGORIES:Screening event
LOCATION:Hôpital ophtalmique Jules-Gonin\, Avenue de France 15\, Lausanne 
 (suisse)\, 1004\, Vaud\, Switzerland
GEO:46.5243349;6.623175800000013
X-APPLE-STRUCTURED-LOCATION;VALUE=URI;X-ADDRESS=Avenue de France 15\, Lausa
 nne (suisse)\, 1004\, Vaud\, Switzerland;X-APPLE-RADIUS=100;X-TITLE=Hôpit
 al ophtalmique Jules-Gonin:geo:46.5243349,6.623175800000013
END:VEVENT
BEGIN:VTIMEZONE
TZID:Europe/Amsterdam
X-LIC-LOCATION:Europe/Amsterdam
BEGIN:STANDARD
DTSTART:20181028T020000
TZOFFSETFROM:+0200
TZOFFSETTO:+0100
TZNAME:CET
END:STANDARD
END:VTIMEZONE
END:VCALENDAR