BEGIN:VCALENDAR
VERSION:2.0
PRODID:-//wp-events-plugin.com//7.2.3.1//EN
TZID:Europe/Amsterdam
X-WR-TIMEZONE:Europe/Amsterdam
BEGIN:VEVENT
UID:2067@worldglaucomaweek.org
DTSTART;TZID=Europe/Amsterdam;VALUE=DATE:20180301
DTEND;TZID=Europe/Amsterdam;VALUE=DATE:20180401
DTSTAMP:20180311T135704Z
URL:https://www.worldglaucomaweek.org/activity/glaucoma-free-screening-3/
SUMMARY:Glaucoma free screening
DESCRIPTION:
CATEGORIES:Media coverage
LOCATION:Medical center “Tonus Amaris”\, Belinskogo str.\, 38\, Nizhny 
 Novgorod\, Russia
GEO:56.310361;43.99790350000001
X-APPLE-STRUCTURED-LOCATION;VALUE=URI;X-ADDRESS=Belinskogo str.\, 38\, Nizh
 ny Novgorod\, Russia;X-APPLE-RADIUS=100;X-TITLE=Medical center “Tonus Am
 aris”:geo:56.310361,43.99790350000001
END:VEVENT
BEGIN:VTIMEZONE
TZID:Europe/Amsterdam
X-LIC-LOCATION:Europe/Amsterdam
BEGIN:STANDARD
DTSTART:20171029T020000
TZOFFSETFROM:+0200
TZOFFSETTO:+0100
TZNAME:CET
END:STANDARD
BEGIN:DAYLIGHT
DTSTART:20180325T030000
TZOFFSETFROM:+0100
TZOFFSETTO:+0200
TZNAME:CEST
END:DAYLIGHT
END:VTIMEZONE
END:VCALENDAR