BEGIN:VCALENDAR
VERSION:2.0
PRODID:-//wp-events-plugin.com//7.2.3.1//EN
TZID:Europe/Amsterdam
X-WR-TIMEZONE:Europe/Amsterdam
BEGIN:VEVENT
UID:4060@worldglaucomaweek.org
DTSTART;TZID=Asia/Karachi:20210308T090000
DTEND;TZID=Asia/Karachi:20210312T160000
DTSTAMP:20210307T143836Z
URL:https://www.worldglaucomaweek.org/activity/glaucoma-free-eye-screening
 -camp/
SUMMARY:Glaucoma Free Eye Screening Camp
DESCRIPTION:
ATTACH;FMTTYPE=image/jpeg:https://www.worldglaucomaweek.org/wp-content/upl
 oads/2021/03/WhatsApp-Image-2021-03-07-at-17.30.33.jpeg
CATEGORIES:Screening event
LOCATION:Pakistan Institute of Community Ophthalmology\, Phase 4 Hayatabad\
 , Peshawar\, Khyber Pakhtunkhwa\, 25000\, Pakistan
GEO:33.991284;71.449231
X-APPLE-STRUCTURED-LOCATION;VALUE=URI;X-ADDRESS=Phase 4 Hayatabad\, Peshawa
 r\, Khyber Pakhtunkhwa\, 25000\, Pakistan;X-APPLE-RADIUS=100;X-TITLE=Pakis
 tan Institute of Community Ophthalmology:geo:33.991284,71.449231
END:VEVENT
BEGIN:VTIMEZONE
TZID:Asia/Karachi
X-LIC-LOCATION:Asia/Karachi
BEGIN:STANDARD
DTSTART:20200308T090000
TZOFFSETFROM:+0500
TZOFFSETTO:+0500
TZNAME:PKT
END:STANDARD
END:VTIMEZONE
END:VCALENDAR