BEGIN:VCALENDAR
VERSION:2.0
PRODID:-//wp-events-plugin.com//7.2.3.1//EN
TZID:Europe/Amsterdam
X-WR-TIMEZONE:Europe/Amsterdam
BEGIN:VEVENT
UID:3017@worldglaucomaweek.org
DTSTART;TZID=Europe/Amsterdam:20190311T180000
DTEND;TZID=Europe/Amsterdam:20190311T210000
DTSTAMP:20190330T105842Z
URL:https://www.worldglaucomaweek.org/activity/glaucoma-eye-health-educati
 on-session-2/
SUMMARY:Glaucoma Eye Health Education Session
DESCRIPTION:
CATEGORIES:Public educational
LOCATION:St Joseph's Healthcare\, 2757 King Street East\, Hamilton\, Ontari
 o\, L8G 5E4\, Canada
GEO:43.2216826;-79.77439449999997
X-APPLE-STRUCTURED-LOCATION;VALUE=URI;X-ADDRESS=2757 King Street East\, Ham
 ilton\, Ontario\, L8G 5E4\, Canada;X-APPLE-RADIUS=100;X-TITLE=St Joseph's 
 Healthcare:geo:43.2216826,-79.77439449999997
END:VEVENT
BEGIN:VTIMEZONE
TZID:Europe/Amsterdam
X-LIC-LOCATION:Europe/Amsterdam
BEGIN:STANDARD
DTSTART:20181028T020000
TZOFFSETFROM:+0200
TZOFFSETTO:+0100
TZNAME:CET
END:STANDARD
END:VTIMEZONE
END:VCALENDAR