BEGIN:VCALENDAR
VERSION:2.0
PRODID:-//wp-events-plugin.com//7.2.3.1//EN
TZID:Europe/Amsterdam
X-WR-TIMEZONE:Europe/Amsterdam
BEGIN:VEVENT
UID:2066@worldglaucomaweek.org
DTSTART;TZID=Europe/Amsterdam:20180311T100000
DTEND;TZID=Europe/Amsterdam:20180311T140000
DTSTAMP:20180311T133109Z
URL:https://www.worldglaucomaweek.org/activity/glaucoma-day-in-general-hos
 pital-in-pozarevac/
SUMMARY:Glaucoma day in General hospital in Pozarevac
DESCRIPTION:There were about 60 persons. We measured IOP by Goldman tonomet
 er. It was found 4 persons with high IOP. So it was ordered for them to co
 me next week for oftamology exemination.
ATTACH;FMTTYPE=image/jpeg:https://www.worldglaucomaweek.org/wp-content/upl
 oads/2018/03/0-02-04-9a1544ac6ce1c37d52362caa853c1fb5a25e57c195030dafb9ae0
 4066cc98503_full.jpg
CATEGORIES:Screening event
LOCATION:General Hospital Pozarevac\, Bratstva Jedinstva 135\, Pozarevac\, 
 Serbia\, 12000\, Serbia
GEO:44.6314301;21.187049600000023
X-APPLE-STRUCTURED-LOCATION;VALUE=URI;X-ADDRESS=Bratstva Jedinstva 135\, Po
 zarevac\, Serbia\, 12000\, Serbia;X-APPLE-RADIUS=100;X-TITLE=General Hospi
 tal Pozarevac:geo:44.6314301,21.187049600000023
END:VEVENT
BEGIN:VTIMEZONE
TZID:Europe/Amsterdam
X-LIC-LOCATION:Europe/Amsterdam
BEGIN:STANDARD
DTSTART:20171029T020000
TZOFFSETFROM:+0200
TZOFFSETTO:+0100
TZNAME:CET
END:STANDARD
END:VTIMEZONE
END:VCALENDAR