BEGIN:VCALENDAR
VERSION:2.0
PRODID:-//wp-events-plugin.com//7.2.3.1//EN
TZID:Europe/Amsterdam
X-WR-TIMEZONE:Europe/Amsterdam
BEGIN:VEVENT
UID:2896@worldglaucomaweek.org
DTSTART;TZID=Europe/Amsterdam;VALUE=DATE:20190310
DTEND;TZID=Europe/Amsterdam;VALUE=DATE:20190311
DTSTAMP:20190312T184848Z
URL:https://www.worldglaucomaweek.org/activity/glaucoma-day-at-zagazig-uni
 versity/
SUMMARY:Glaucoma Day at Zagazig University
DESCRIPTION:Several Glaucoma awareness talks by Professor Adel Abdel-Razik\
 , Vice-President of the Egyptian Society for the Glaucomas\, Professor of 
 Ophthalmology at Zagazig University\, and other Colleagues from the Ophtha
 lmology Dept
ATTACH;FMTTYPE=image/jpeg:https://www.worldglaucomaweek.org/wp-content/upl
 oads/2019/03/1e01a6f3-7b8c-4d4b-9287-9f292fe758fc-1024x576.jpg
CATEGORIES:Public educational
LOCATION:Zagazig University\, Faculty of Medicine Campus\, Zagazig\, Egypt\
 , Egypt
GEO:30.5765383;31.50406559999999
X-APPLE-STRUCTURED-LOCATION;VALUE=URI;X-ADDRESS=Faculty of Medicine Campus\
 , Zagazig\, Egypt\, Egypt;X-APPLE-RADIUS=100;X-TITLE=Zagazig University:ge
 o:30.5765383,31.50406559999999
END:VEVENT
BEGIN:VTIMEZONE
TZID:Europe/Amsterdam
X-LIC-LOCATION:Europe/Amsterdam
BEGIN:STANDARD
DTSTART:20181028T020000
TZOFFSETFROM:+0200
TZOFFSETTO:+0100
TZNAME:CET
END:STANDARD
END:VTIMEZONE
END:VCALENDAR