BEGIN:VCALENDAR
VERSION:2.0
PRODID:-//wp-events-plugin.com//7.2.3.1//EN
TZID:Europe/Amsterdam
X-WR-TIMEZONE:Europe/Amsterdam
BEGIN:VEVENT
UID:2990@worldglaucomaweek.org
DTSTART;TZID=Europe/Amsterdam;VALUE=DATE:20190312
DTEND;TZID=Europe/Amsterdam;VALUE=DATE:20190313
DTSTAMP:20190326T150259Z
URL:https://www.worldglaucomaweek.org/activity/glaucoma-cme-2/
SUMMARY:Glaucoma CME
DESCRIPTION:Glaucoma CME\n&nbsp\;\n\nRML hospital currently has about 1420 
 beds\, spread in 30 acres of land. It caters to the population of New Delh
 i/NCR and has a high influx of patients diagnosed with glaucoma.\n\nGlauco
 ma CME was organized to increase awareness amongst practitioners of all op
 hthalmic sub specialities. Diseases of Cornea\, uvea\, retina and lens ind
 uced glaucoma were discussed by presenters.
ATTACH;FMTTYPE=image/jpeg:https://www.worldglaucomaweek.org/wp-content/upl
 oads/2019/03/IMG_20190312_182224.jpg
CATEGORIES:Public educational
LOCATION:New Delhi\, RML Hospital\, New Delhi\, New Delhi\, 110001\, South 
 Asia\, India
GEO:28.6257235;77.20272120000004
X-APPLE-STRUCTURED-LOCATION;VALUE=URI;X-ADDRESS=RML Hospital\, New Delhi\, 
 New Delhi\, 110001\, South Asia\, India;X-APPLE-RADIUS=100;X-TITLE=New Del
 hi:geo:28.6257235,77.20272120000004
END:VEVENT
BEGIN:VTIMEZONE
TZID:Europe/Amsterdam
X-LIC-LOCATION:Europe/Amsterdam
BEGIN:STANDARD
DTSTART:20181028T020000
TZOFFSETFROM:+0200
TZOFFSETTO:+0100
TZNAME:CET
END:STANDARD
END:VTIMEZONE
END:VCALENDAR