BEGIN:VCALENDAR
VERSION:2.0
PRODID:-//wp-events-plugin.com//7.2.3.1//EN
TZID:Europe/Amsterdam
X-WR-TIMEZONE:Europe/Amsterdam
BEGIN:VEVENT
UID:1564@worldglaucomaweek.org
DTSTART;TZID=Europe/Amsterdam:20180301T190000
DTEND;TZID=Europe/Amsterdam:20180301T223000
DTSTAMP:20180201T112812Z
URL:https://www.worldglaucomaweek.org/activity/glaucoma-challenges/
SUMMARY:Glaucoma Challenges
DESCRIPTION:A panel of glaucoma specialists will discuss difficult and chal
 lenging cases.
CATEGORIES:Other
LOCATION:Phoenicia hotel\, saint elie street\, Beirut\, baabda\, 0000\, Leb
 anon
GEO:33.8925738;35.50697779999996
X-APPLE-STRUCTURED-LOCATION;VALUE=URI;X-ADDRESS=saint elie street\, Beirut\
 , baabda\, 0000\, Lebanon;X-APPLE-RADIUS=100;X-TITLE=Phoenicia hotel:geo:3
 3.8925738,35.50697779999996
END:VEVENT
BEGIN:VTIMEZONE
TZID:Europe/Amsterdam
X-LIC-LOCATION:Europe/Amsterdam
BEGIN:STANDARD
DTSTART:20171029T020000
TZOFFSETFROM:+0200
TZOFFSETTO:+0100
TZNAME:CET
END:STANDARD
END:VTIMEZONE
END:VCALENDAR