BEGIN:VCALENDAR
VERSION:2.0
PRODID:-//wp-events-plugin.com//7.2.3.1//EN
TZID:Europe/Amsterdam
X-WR-TIMEZONE:Europe/Amsterdam
BEGIN:VEVENT
UID:462@worldglaucomaweek.org
DTSTART;TZID=Europe/Amsterdam:20150308T100000
DTEND;TZID=Europe/Amsterdam:20150310T170000
DTSTAMP:20150310T205958Z
URL:https://www.worldglaucomaweek.org/activity/glaucoma-awareness-week/
SUMMARY:GLAUCOMA AWARENESS WEEK
DESCRIPTION:A two day public awareness event was organised under  Visual A
 nd auditary diability prevention programme of Saudi Arabia.this event was 
 for awaring the people for Glaucoma\, cataract\,diabetic retinopathy and c
 hildhood refractive error.Dr Yasmeen Al Najjar \,the National co ordinator
  of VADPP and counsillor of deputy health minister of Saudi Arabia inaugur
 ated this event at Community Health Center of Omran. Dr Mohammad Khalid Ab
 dul aal\, the director general of health Al ahsa\, Dr Zaki abdul Lateef\, 
 the deputy director of Primary health care of Al Ahsa were also present on
  this occasion.
CATEGORIES:Public educational
LOCATION:AL OMRAN SECTOR PHC\, AL OMRAN\, AL AHSA\, Al Ahsa\, 31982\, Saudi
  Arabia
GEO:25.4031273;49.48052949999999
X-APPLE-STRUCTURED-LOCATION;VALUE=URI;X-ADDRESS=AL OMRAN\, AL AHSA\, Al Ahs
 a\, 31982\, Saudi Arabia;X-APPLE-RADIUS=100;X-TITLE=AL OMRAN SECTOR PHC:ge
 o:25.4031273,49.48052949999999
END:VEVENT
BEGIN:VTIMEZONE
TZID:Europe/Amsterdam
X-LIC-LOCATION:Europe/Amsterdam
BEGIN:STANDARD
DTSTART:20141026T020000
TZOFFSETFROM:+0200
TZOFFSETTO:+0100
TZNAME:CET
END:STANDARD
END:VTIMEZONE
END:VCALENDAR