BEGIN:VCALENDAR
VERSION:2.0
PRODID:-//wp-events-plugin.com//7.2.3.1//EN
TZID:Europe/Amsterdam
X-WR-TIMEZONE:Europe/Amsterdam
BEGIN:VEVENT
UID:2226@worldglaucomaweek.org
DTSTART;TZID=Europe/Amsterdam:20180314T080000
DTEND;TZID=Europe/Amsterdam:20180314T083000
DTSTAMP:20180315T104650Z
URL:https://www.worldglaucomaweek.org/activity/glaucoma-awareness-walk-5/
SUMMARY:Glaucoma Awareness walk
DESCRIPTION:[caption id="attachment_8889" align="alignnone" width="300"] Gl
 aucoma Awareness walk- 2018[/caption]\n\n
CATEGORIES:Media coverage
LOCATION:Tirunelveli Railway Station to Aravind Eye Hospital\, Tirunelveli\
 , Tiirunelveli Railway Station\, Tirunelveli\, TamilNadu\, India\, 627001\
 , Tirunelveli\, India
GEO:8.7313945;77.70821409999996
X-APPLE-STRUCTURED-LOCATION;VALUE=URI;X-ADDRESS=Tiirunelveli Railway Statio
 n\, Tirunelveli\, TamilNadu\, India\, 627001\, Tirunelveli\, India;X-APPLE
 -RADIUS=100;X-TITLE=Tirunelveli Railway Station to Aravind Eye Hospital\, 
 Tirunelveli:geo:8.7313945,77.70821409999996
END:VEVENT
BEGIN:VTIMEZONE
TZID:Europe/Amsterdam
X-LIC-LOCATION:Europe/Amsterdam
BEGIN:STANDARD
DTSTART:20171029T020000
TZOFFSETFROM:+0200
TZOFFSETTO:+0100
TZNAME:CET
END:STANDARD
END:VTIMEZONE
END:VCALENDAR