BEGIN:VCALENDAR
VERSION:2.0
PRODID:-//wp-events-plugin.com//7.2.3.1//EN
TZID:Europe/Amsterdam
X-WR-TIMEZONE:Europe/Amsterdam
BEGIN:VEVENT
UID:2136@worldglaucomaweek.org
DTSTART;TZID=Europe/Amsterdam:20180312T070000
DTEND;TZID=Europe/Amsterdam:20180312T083000
DTSTAMP:20180313T153758Z
URL:https://www.worldglaucomaweek.org/activity/glaucoma-awareness-walk-4/
SUMMARY:Glaucoma Awareness Walk
DESCRIPTION:[video width="360" height="640" mp4="https://www.worldglaucomaw
 eek.org/wp-content/uploads/2018/03/Glaucoma-Walk-lahan.mp4"][/video]\n\nWe
  organised a Glaucoma Awareness Walk on 12th March\, 2018 in Lahan\, Nepal
 .
ATTACH;FMTTYPE=image/jpeg:https://www.worldglaucomaweek.org/wp-content/upl
 oads/2018/03/pic-1.jpg
CATEGORIES:Public educational
LOCATION:Sagarmatha Choudhary Eye Hopsital\, Lahan-3\, Siraha \, Lahan\, Ne
 pal\, Nepal
GEO:26.710363;86.49286299999994
X-APPLE-STRUCTURED-LOCATION;VALUE=URI;X-ADDRESS=Lahan-3\, Siraha \, Lahan\,
  Nepal\, Nepal;X-APPLE-RADIUS=100;X-TITLE=Sagarmatha Choudhary Eye Hopsita
 l:geo:26.710363,86.49286299999994
END:VEVENT
BEGIN:VTIMEZONE
TZID:Europe/Amsterdam
X-LIC-LOCATION:Europe/Amsterdam
BEGIN:STANDARD
DTSTART:20171029T020000
TZOFFSETFROM:+0200
TZOFFSETTO:+0100
TZNAME:CET
END:STANDARD
END:VTIMEZONE
END:VCALENDAR