BEGIN:VCALENDAR
VERSION:2.0
PRODID:-//wp-events-plugin.com//7.2.3.1//EN
TZID:Europe/Amsterdam
X-WR-TIMEZONE:Europe/Amsterdam
BEGIN:VEVENT
UID:2231@worldglaucomaweek.org
DTSTART;TZID=Europe/Amsterdam;VALUE=DATE:20180314
DTEND;TZID=Europe/Amsterdam;VALUE=DATE:20180315
DTSTAMP:20180315T173026Z
URL:https://www.worldglaucomaweek.org/activity/glaucoma-awareness-video-on
 -social/
SUMMARY:Glaucoma Awareness Video on Social
DESCRIPTION:Dr. Marc Harrie discusses what glaucoma is and the importance o
 f getting eyes examined.
CATEGORIES:Awareness
LOCATION:Chu Vision Institute\, 9117 Lyndale Ave S\, Bloomington\, Minnesot
 a\, 55423\, United States
GEO:44.8383355;-93.28793759999996
X-APPLE-STRUCTURED-LOCATION;VALUE=URI;X-ADDRESS=9117 Lyndale Ave S\, Bloomi
 ngton\, Minnesota\, 55423\, United States;X-APPLE-RADIUS=100;X-TITLE=Chu V
 ision Institute:geo:44.8383355,-93.28793759999996
END:VEVENT
BEGIN:VTIMEZONE
TZID:Europe/Amsterdam
X-LIC-LOCATION:Europe/Amsterdam
BEGIN:STANDARD
DTSTART:20171029T020000
TZOFFSETFROM:+0200
TZOFFSETTO:+0100
TZNAME:CET
END:STANDARD
END:VTIMEZONE
END:VCALENDAR