BEGIN:VCALENDAR
VERSION:2.0
PRODID:-//wp-events-plugin.com//7.2.3.1//EN
TZID:Europe/Amsterdam
X-WR-TIMEZONE:Europe/Amsterdam
BEGIN:VEVENT
UID:2782@worldglaucomaweek.org
DTSTART;TZID=Europe/Amsterdam:20190312T103000
DTEND;TZID=Europe/Amsterdam:20190312T113000
DTSTAMP:20190309T163339Z
URL:https://www.worldglaucomaweek.org/activity/glaucoma-awareness-talk-on-
 live-radio/
SUMMARY:Glaucoma awareness talk on live radio
DESCRIPTION:FM Radio phone-in program. Callers have their questions answere
 d on live radio.
CATEGORIES:Media coverage
LOCATION:Kaduna State Media Corporation\, Off Rabah road\, kaduna\, kaduna/
 Nigeria\, 800001\, West Africa\, Nigeria
GEO:10.5528357;7.451999300000011
X-APPLE-STRUCTURED-LOCATION;VALUE=URI;X-ADDRESS=Off Rabah road\, kaduna\, k
 aduna/Nigeria\, 800001\, West Africa\, Nigeria;X-APPLE-RADIUS=100;X-TITLE=
 Kaduna State Media Corporation:geo:10.5528357,7.451999300000011
END:VEVENT
BEGIN:VTIMEZONE
TZID:Europe/Amsterdam
X-LIC-LOCATION:Europe/Amsterdam
BEGIN:STANDARD
DTSTART:20181028T020000
TZOFFSETFROM:+0200
TZOFFSETTO:+0100
TZNAME:CET
END:STANDARD
END:VTIMEZONE
END:VCALENDAR