BEGIN:VCALENDAR
VERSION:2.0
PRODID:-//wp-events-plugin.com//7.2.3.1//EN
TZID:Europe/Amsterdam
X-WR-TIMEZONE:Europe/Amsterdam
BEGIN:VEVENT
UID:2676@worldglaucomaweek.org
DTSTART;TZID=Europe/Amsterdam;VALUE=DATE:20190310
DTEND;TZID=Europe/Amsterdam;VALUE=DATE:20190311
DTSTAMP:20190306T074724Z
URL:https://www.worldglaucomaweek.org/activity/glaucoma-awareness-talk-6/
SUMMARY:Glaucoma Awareness Talk
DESCRIPTION:
CATEGORIES:Public educational
END:VEVENT
BEGIN:VTIMEZONE
TZID:Europe/Amsterdam
X-LIC-LOCATION:Europe/Amsterdam
BEGIN:STANDARD
DTSTART:20181028T020000
TZOFFSETFROM:+0200
TZOFFSETTO:+0100
TZNAME:CET
END:STANDARD
END:VTIMEZONE
END:VCALENDAR