BEGIN:VCALENDAR
VERSION:2.0
PRODID:-//wp-events-plugin.com//7.2.3.1//EN
TZID:Europe/Amsterdam
X-WR-TIMEZONE:Europe/Amsterdam
BEGIN:VEVENT
UID:2270@worldglaucomaweek.org
DTSTART;TZID=Europe/Amsterdam:20180210T140000
DTEND;TZID=Europe/Amsterdam:20180210T143000
DTSTAMP:20180317T190442Z
URL:https://www.worldglaucomaweek.org/activity/glaucoma-awareness-talk-5/
SUMMARY:Glaucoma Awareness Talk
DESCRIPTION:\n 	
ATTACH;FMTTYPE=image/jpeg:https://www.worldglaucomaweek.org/wp-content/upl
 oads/2018/03/IMG-20180211-WA0007.jpg
CATEGORIES:Media coverage
LOCATION:Al-Shifa Trust Eye Hispital Rawalpindi Pakistan\, Al-Shifa Trust E
 ye Hispital\, Rawalpindi\, Pakistan
GEO:33.5595298;73.09191129999999
X-APPLE-STRUCTURED-LOCATION;VALUE=URI;X-ADDRESS=Al-Shifa Trust Eye Hispital
 \, Rawalpindi\, Pakistan;X-APPLE-RADIUS=100;X-TITLE=Al-Shifa Trust Eye His
 pital Rawalpindi Pakistan:geo:33.5595298,73.09191129999999
END:VEVENT
BEGIN:VTIMEZONE
TZID:Europe/Amsterdam
X-LIC-LOCATION:Europe/Amsterdam
BEGIN:STANDARD
DTSTART:20171029T020000
TZOFFSETFROM:+0200
TZOFFSETTO:+0100
TZNAME:CET
END:STANDARD
END:VTIMEZONE
END:VCALENDAR