BEGIN:VCALENDAR
VERSION:2.0
PRODID:-//wp-events-plugin.com//7.2.3.1//EN
TZID:Europe/Amsterdam
X-WR-TIMEZONE:Europe/Amsterdam
BEGIN:VEVENT
UID:1998@worldglaucomaweek.org
DTSTART;TZID=Europe/Amsterdam:20180311T180000
DTEND;TZID=Europe/Amsterdam:20180311T200000
DTSTAMP:20180309T113330Z
URL:https://www.worldglaucomaweek.org/activity/glaucoma-awareness-talk-4/
SUMMARY:GLAUCOMA AWARENESS TALK
DESCRIPTION:
ATTACH;FMTTYPE=image/jpeg:https://www.worldglaucomaweek.org/wp-content/upl
 oads/2018/03/WhatsApp-Image-2018-03-09-at-4.33.55-PM-1.jpeg
CATEGORIES:Public educational
LOCATION:Veer Narmad South Gujarat University\, CONVENTION HALL\, SURAT\, G
 UJRAT\, 395007\, India
GEO:21.155914;72.7878981
X-APPLE-STRUCTURED-LOCATION;VALUE=URI;X-ADDRESS=CONVENTION HALL\, SURAT\, G
 UJRAT\, 395007\, India;X-APPLE-RADIUS=100;X-TITLE=Veer Narmad South Gujara
 t University:geo:21.155914,72.7878981
END:VEVENT
BEGIN:VTIMEZONE
TZID:Europe/Amsterdam
X-LIC-LOCATION:Europe/Amsterdam
BEGIN:STANDARD
DTSTART:20171029T020000
TZOFFSETFROM:+0200
TZOFFSETTO:+0100
TZNAME:CET
END:STANDARD
END:VTIMEZONE
END:VCALENDAR