BEGIN:VCALENDAR
VERSION:2.0
PRODID:-//wp-events-plugin.com//7.2.3.1//EN
TZID:Europe/Amsterdam
X-WR-TIMEZONE:Europe/Amsterdam
BEGIN:VEVENT
UID:2616@worldglaucomaweek.org
DTSTART;TZID=Europe/Amsterdam:20190313T090000
DTEND;TZID=Europe/Amsterdam:20190313T130000
DTSTAMP:20190305T094919Z
URL:https://www.worldglaucomaweek.org/activity/glaucoma-awareness-stand/
SUMMARY:Glaucoma Awareness Stand
DESCRIPTION:Information stand\, offering information and support to glaucom
 a patients and their families/carers.
CATEGORIES:Public educational
LOCATION:Manor Walks Outpatients Clinic\, Cramlington\, Northumberland\, NE
 23 6QP\, United Kingdom
GEO:55.0850748;-1.5900924999999688
X-APPLE-STRUCTURED-LOCATION;VALUE=URI;X-ADDRESS=Cramlington\, Northumberlan
 d\, NE23 6QP\, United Kingdom;X-APPLE-RADIUS=100;X-TITLE=Manor Walks Outpa
 tients Clinic:geo:55.0850748,-1.5900924999999688
END:VEVENT
BEGIN:VTIMEZONE
TZID:Europe/Amsterdam
X-LIC-LOCATION:Europe/Amsterdam
BEGIN:STANDARD
DTSTART:20181028T020000
TZOFFSETFROM:+0200
TZOFFSETTO:+0100
TZNAME:CET
END:STANDARD
END:VTIMEZONE
END:VCALENDAR