BEGIN:VCALENDAR
VERSION:2.0
PRODID:-//wp-events-plugin.com//7.2.3.1//EN
TZID:Europe/Amsterdam
X-WR-TIMEZONE:Europe/Amsterdam
BEGIN:VEVENT
UID:2617@worldglaucomaweek.org
DTSTART;TZID=Europe/Amsterdam:20190314T100000
DTEND;TZID=Europe/Amsterdam:20190314T140000
DTSTAMP:20190305T095743Z
URL:https://www.worldglaucomaweek.org/activity/glaucoma-awareness-stand-2/
SUMMARY:Glaucoma Awareness Stand
DESCRIPTION:A stall\, raising general public awareness of glaucoma and enco
 uraging people to go for regular eye checks.
CATEGORIES:Public educational
LOCATION:Oak Shopping Mall\, 1A Hamilton Gate\, Greenock\, PA15 1JW\, Unite
 d Kingdom
GEO:55.94834419999999;-4.760062000000062
X-APPLE-STRUCTURED-LOCATION;VALUE=URI;X-ADDRESS=1A Hamilton Gate\, Greenock
 \, PA15 1JW\, United Kingdom;X-APPLE-RADIUS=100;X-TITLE=Oak Shopping Mall:
 geo:55.94834419999999,-4.760062000000062
END:VEVENT
BEGIN:VTIMEZONE
TZID:Europe/Amsterdam
X-LIC-LOCATION:Europe/Amsterdam
BEGIN:STANDARD
DTSTART:20181028T020000
TZOFFSETFROM:+0200
TZOFFSETTO:+0100
TZNAME:CET
END:STANDARD
END:VTIMEZONE
END:VCALENDAR