BEGIN:VCALENDAR
VERSION:2.0
PRODID:-//wp-events-plugin.com//7.2.3.1//EN
TZID:Europe/Amsterdam
X-WR-TIMEZONE:Europe/Amsterdam
BEGIN:VEVENT
UID:2123@worldglaucomaweek.org
DTSTART;TZID=Europe/Amsterdam;VALUE=DATE:20180311
DTEND;TZID=Europe/Amsterdam;VALUE=DATE:20180319
DTSTAMP:20180313T033924Z
URL:https://www.worldglaucomaweek.org/activity/glaucoma-awareness-exhibiti
 on-3/
SUMMARY:"Light up in Green" Glaucoma Awareness Exhibition
DESCRIPTION:
CATEGORIES:Awareness
LOCATION:Princess Margaret Hospital\, Shirley Street\, Nassau\, New Provide
 nce\, Bahamas
GEO:25.0735166;-77.3245301
X-APPLE-STRUCTURED-LOCATION;VALUE=URI;X-ADDRESS=Shirley Street\, Nassau\, N
 ew Providence\, Bahamas;X-APPLE-RADIUS=100;X-TITLE=Princess Margaret Hospi
 tal:geo:25.0735166,-77.3245301
END:VEVENT
BEGIN:VTIMEZONE
TZID:Europe/Amsterdam
X-LIC-LOCATION:Europe/Amsterdam
BEGIN:STANDARD
DTSTART:20171029T020000
TZOFFSETFROM:+0200
TZOFFSETTO:+0100
TZNAME:CET
END:STANDARD
END:VTIMEZONE
END:VCALENDAR