BEGIN:VCALENDAR
VERSION:2.0
PRODID:-//wp-events-plugin.com//7.2.3.1//EN
TZID:Europe/Amsterdam
X-WR-TIMEZONE:Europe/Amsterdam
BEGIN:VEVENT
UID:1769@worldglaucomaweek.org
DTSTART;TZID=Europe/Amsterdam:20180311T090000
DTEND;TZID=Europe/Amsterdam:20180317T140000
DTSTAMP:20180227T064317Z
URL:https://www.worldglaucomaweek.org/activity/glaucoma-awareness-campaign
 /
SUMMARY:Glaucoma Awareness Campaign
DESCRIPTION:
ATTACH;FMTTYPE=image/jpeg:https://www.worldglaucomaweek.org/wp-content/upl
 oads/2018/02/1504246208274.jpg
CATEGORIES:Public educational
LOCATION:The Eye Clinic\, Chavan Hospital\, 54 Stadium Road\, Ajmera\, Pimp
 ri\, Pune\, Maharashtra\, 411018\, India
GEO:18.633069;73.81675300000006
X-APPLE-STRUCTURED-LOCATION;VALUE=URI;X-ADDRESS=54 Stadium Road\, Ajmera\, 
 Pimpri\, Pune\, Maharashtra\, 411018\, India;X-APPLE-RADIUS=100;X-TITLE=Th
 e Eye Clinic\, Chavan Hospital:geo:18.633069,73.81675300000006
END:VEVENT
BEGIN:VTIMEZONE
TZID:Europe/Amsterdam
X-LIC-LOCATION:Europe/Amsterdam
BEGIN:STANDARD
DTSTART:20171029T020000
TZOFFSETFROM:+0200
TZOFFSETTO:+0100
TZNAME:CET
END:STANDARD
END:VTIMEZONE
END:VCALENDAR