BEGIN:VCALENDAR
VERSION:2.0
PRODID:-//wp-events-plugin.com//7.2.3.1//EN
TZID:Europe/Amsterdam
X-WR-TIMEZONE:Europe/Amsterdam
BEGIN:VEVENT
UID:2058@worldglaucomaweek.org
DTSTART;TZID=Europe/Amsterdam:20180319T100000
DTEND;TZID=Europe/Amsterdam:20180322T120000
DTSTAMP:20180311T081946Z
URL:https://www.worldglaucomaweek.org/activity/glaucoma-awareness-campaign
 -3/
SUMMARY:Glaucoma Awareness campaign
DESCRIPTION:A visit to a list of schools for presentation and health educat
 ion about Glaucoma.\n\nBrochures and posters will be distributed.\n\n&nbsp
 \;
ATTACH;FMTTYPE=image/jpeg:https://www.worldglaucomaweek.org/wp-content/upl
 oads/2018/03/Awareness.jpg
CATEGORIES:Awareness
LOCATION:Doha School\, Ministry of Education and Higher Education\, Doha \,
  Qatar
GEO:25.263819;51.542210899999986
X-APPLE-STRUCTURED-LOCATION;VALUE=URI;X-ADDRESS=Ministry of Education and H
 igher Education\, Doha \, Qatar;X-APPLE-RADIUS=100;X-TITLE=Doha School:geo
 :25.263819,51.542210899999986
END:VEVENT
BEGIN:VTIMEZONE
TZID:Europe/Amsterdam
X-LIC-LOCATION:Europe/Amsterdam
BEGIN:STANDARD
DTSTART:20171029T020000
TZOFFSETFROM:+0200
TZOFFSETTO:+0100
TZNAME:CET
END:STANDARD
END:VTIMEZONE
END:VCALENDAR