BEGIN:VCALENDAR
VERSION:2.0
PRODID:-//wp-events-plugin.com//7.2.3.1//EN
TZID:Europe/Amsterdam
X-WR-TIMEZONE:Europe/Amsterdam
BEGIN:VEVENT
UID:298@worldglaucomaweek.org
DTSTART;TZID=Europe/Amsterdam:20150309T180000
DTEND;TZID=Europe/Amsterdam:20150314T210000
DTSTAMP:20150306T172330Z
URL:https://www.worldglaucomaweek.org/activity/glaucoma-awareness-brochure
 /
SUMMARY:Glaucoma Awareness Brochure
DESCRIPTION:Distribution of Glaucoma Awareness Brochure among general publi
 c to alert them about the need of glaucoma screening.
ATTACH;FMTTYPE=image/jpeg:https://www.worldglaucomaweek.org/wp-content/upl
 oads/2015/03/GREAT-PROJECT-III.jpg
CATEGORIES:Public educational
LOCATION:Anasuya Rao Eye Clinic\, 11-1-58\, ISLAMPET\, B.R.P. ROAD\, VIJAYA
 WADA\, ANDHRA PRADESH\, 520001\, India
GEO:16.5192666;80.6149719
X-APPLE-STRUCTURED-LOCATION;VALUE=URI;X-ADDRESS=11-1-58\, ISLAMPET\, B.R.P.
  ROAD\, VIJAYAWADA\, ANDHRA PRADESH\, 520001\, India;X-APPLE-RADIUS=100;X-
 TITLE=Anasuya Rao Eye Clinic:geo:16.5192666,80.6149719
END:VEVENT
BEGIN:VTIMEZONE
TZID:Europe/Amsterdam
X-LIC-LOCATION:Europe/Amsterdam
BEGIN:STANDARD
DTSTART:20141026T020000
TZOFFSETFROM:+0200
TZOFFSETTO:+0100
TZNAME:CET
END:STANDARD
END:VTIMEZONE
END:VCALENDAR