BEGIN:VCALENDAR
VERSION:2.0
PRODID:-//wp-events-plugin.com//7.2.3.1//EN
TZID:Europe/Amsterdam
X-WR-TIMEZONE:Europe/Amsterdam
BEGIN:VEVENT
UID:1524@worldglaucomaweek.org
DTSTART;TZID=Europe/Amsterdam;VALUE=DATE:20180312
DTEND;TZID=Europe/Amsterdam;VALUE=DATE:20180319
DTSTAMP:20180123T132834Z
URL:https://www.worldglaucomaweek.org/activity/glaucoma-awareness-ad-scree
 ning-week/
SUMMARY:Glaucoma Awareness and Screening Week
DESCRIPTION:Free screening test for Glaucoma with distribution of education
 al leaflets and brochures.
CATEGORIES:Screening event
LOCATION:City mall dora\,  City mall dora\, Beirut\, Dora\, Lebanon
GEO:33.8975014;35.56476109999994
X-APPLE-STRUCTURED-LOCATION;VALUE=URI;X-ADDRESS= City mall dora\, Beirut\, 
 Dora\, Lebanon;X-APPLE-RADIUS=100;X-TITLE=City mall dora:geo:33.8975014,35
 .56476109999994
END:VEVENT
BEGIN:VTIMEZONE
TZID:Europe/Amsterdam
X-LIC-LOCATION:Europe/Amsterdam
BEGIN:STANDARD
DTSTART:20171029T020000
TZOFFSETFROM:+0200
TZOFFSETTO:+0100
TZNAME:CET
END:STANDARD
END:VTIMEZONE
END:VCALENDAR