BEGIN:VCALENDAR
VERSION:2.0
PRODID:-//wp-events-plugin.com//7.2.3.1//EN
TZID:Europe/Amsterdam
X-WR-TIMEZONE:Europe/Amsterdam
BEGIN:VEVENT
UID:2566@worldglaucomaweek.org
DTSTART;TZID=Europe/Amsterdam;VALUE=DATE:20190310
DTEND;TZID=Europe/Amsterdam;VALUE=DATE:20190317
DTSTAMP:20190227T042643Z
URL:https://www.worldglaucomaweek.org/activity/glaucoma-australia/
SUMMARY:Glaucoma Australia Risk Awareness Campaign
DESCRIPTION:Glaucoma Australia has launched a new risk awareness campaign 
 encouraging people who are at greater risk of developing glaucoma to get
  their eyes tested.\n\nGlaucoma is the leading cause of avoidable blindnes
 s worldwide\, affecting over 300\,000 Australians\, yet it is estimated th
 at 50% of those living with glaucoma are undiagnosed.\n\nWhile nine out of
  10 Australians say that sight is their most valued sense\, over 8 million
  Australians are still not having regular eye tests.\n\nYou can help chang
 e this statistic.\n\nWho is at risk? \n\nAlthough anyone may develop glau
 coma\, some people have a higher risk - they are people who:\n\n 	have a f
 amily history of glaucoma\n 	have high eye pressure\n 	are aged over 50\n 
 	are of African or Asian descent\n 	have diabetes\n 	have myopia (nearsigh
 ted)\n 	have been on a prolonged course of cortisone (steroid) medication\
 n 	experience migraines\n 	have had an eye operation or eye injury\n 	who 
 have a history or high or low blood pressure\n\n(Abridged: NHMRC Guideline
 s\, 2010) What can you do during World Glaucoma Week?\n\n 	Encourage peo
 ple at risk of developing glaucoma to get their eyes checked at least ev
 ery 2 years.\n 	If you have glaucoma alert your first-degree relatives and
  encourage them to get their eyes checked every 2 years from the age of 40
 .\n 	Download our free risk awareness campaign resources and help start th
 e conversation. Visit our website.\n\nOther ways you can support us!\n\n 
 	Follow us on Facebook - share our social media updates in the lead-up to 
 and throughout World Glaucoma Week 2019.\n 	Host your own fundraiser - vis
 it our website to create your own fundraising page\n 	Donate - all funds 
 raised go towards glaucoma awareness\, education\, support and research.\n
ATTACH;FMTTYPE=image/jpeg:https://www.worldglaucomaweek.org/wp-content/upl
 oads/2019/02/GA_11041-5_RISK_AWARENESS_CAMP_HOME_PAGETILE__500_X_325_DD_01
 .jpg
CATEGORIES:Public educational
END:VEVENT
BEGIN:VTIMEZONE
TZID:Europe/Amsterdam
X-LIC-LOCATION:Europe/Amsterdam
BEGIN:STANDARD
DTSTART:20181028T020000
TZOFFSETFROM:+0200
TZOFFSETTO:+0100
TZNAME:CET
END:STANDARD
END:VTIMEZONE
END:VCALENDAR