BEGIN:VCALENDAR
VERSION:2.0
PRODID:-//wp-events-plugin.com//7.2.3.1//EN
TZID:Europe/Amsterdam
X-WR-TIMEZONE:Europe/Amsterdam
BEGIN:VEVENT
UID:2255@worldglaucomaweek.org
DTSTART;TZID=Europe/Amsterdam:20180322T070000
DTEND;TZID=Europe/Amsterdam:20180322T143000
DTSTAMP:20180316T161643Z
URL:https://www.worldglaucomaweek.org/activity/gift-public-screening/
SUMMARY:GiFT Public Screening
DESCRIPTION:
CATEGORIES:Screening event
LOCATION:Glaucoma Specialist Centre\, 1 Marli Street \, Port of Spain\, Tri
 nidad and Tobago
GEO:10.6657638;-61.51819109999997
X-APPLE-STRUCTURED-LOCATION;VALUE=URI;X-ADDRESS=1 Marli Street \, Port of S
 pain\, Trinidad and Tobago;X-APPLE-RADIUS=100;X-TITLE=Glaucoma Specialist 
 Centre:geo:10.6657638,-61.51819109999997
END:VEVENT
BEGIN:VTIMEZONE
TZID:Europe/Amsterdam
X-LIC-LOCATION:Europe/Amsterdam
BEGIN:STANDARD
DTSTART:20171029T020000
TZOFFSETFROM:+0200
TZOFFSETTO:+0100
TZNAME:CET
END:STANDARD
END:VTIMEZONE
END:VCALENDAR