BEGIN:VCALENDAR
VERSION:2.0
PRODID:-//wp-events-plugin.com//7.2.3.1//EN
TZID:Europe/Amsterdam
X-WR-TIMEZONE:Europe/Amsterdam
BEGIN:VEVENT
UID:2577@worldglaucomaweek.org
DTSTART;TZID=Europe/Amsterdam:20190313T100000
DTEND;TZID=Europe/Amsterdam:20190316T130000
DTSTAMP:20190228T192425Z
URL:https://www.worldglaucomaweek.org/activity/free-vision-test-including-
 iop-optic-nerve-glaucoma-screening-event/
SUMMARY:Free Vision Test including IOP/ Optic nerve . Glaucoma Screening Ev
 ent
DESCRIPTION:
CATEGORIES:Screening event
LOCATION:Dar AlShifaa Hospital  مستشفى دار الشفاء\, Abu Samr
 a \, Tripoli \, Lebanon
GEO:34.41580705744447;35.84315456396257
X-APPLE-STRUCTURED-LOCATION;VALUE=URI;X-ADDRESS=Abu Samra \, Tripoli \, Leb
 anon;X-APPLE-RADIUS=100;X-TITLE=Dar AlShifaa Hospital  مستشفى دار
  الشفاء:geo:34.41580705744447,35.84315456396257
END:VEVENT
BEGIN:VTIMEZONE
TZID:Europe/Amsterdam
X-LIC-LOCATION:Europe/Amsterdam
BEGIN:STANDARD
DTSTART:20181028T020000
TZOFFSETFROM:+0200
TZOFFSETTO:+0100
TZNAME:CET
END:STANDARD
END:VTIMEZONE
END:VCALENDAR