BEGIN:VCALENDAR
VERSION:2.0
PRODID:-//wp-events-plugin.com//7.2.3.1//EN
TZID:Europe/Amsterdam
X-WR-TIMEZONE:Europe/Amsterdam
BEGIN:VEVENT
UID:2854@worldglaucomaweek.org
DTSTART;TZID=Europe/Amsterdam:20190310T100000
DTEND;TZID=Europe/Amsterdam:20190316T200000
DTSTAMP:20190312T094752Z
URL:https://www.worldglaucomaweek.org/activity/free-vision-test-including-
 iop-awareness-about-glaucoma/
SUMMARY:Free Vision Test including IOP - Awareness about Glaucoma
DESCRIPTION:Join us at the heart of the Bekaa for a FREE vision test includ
 ing a FREE intra-ocular pressure (IOP) measurement test using the iCare to
 nometer\, the latest technology for the measurement of the IOP without ane
 sthesia and air puff.\n\n#WorldGlaucomaWeek #GlaucomaWeek
CATEGORIES:Screening event
LOCATION:MYOPTIC by Sharbel Faraj\, Haouch El Omara\, Centre Hajj\, Zahle's
  Exit Main Road\, Bekaa\, Zahle\, 1801\, Lebanon
GEO:33.833398060938826;35.913347345532316
X-APPLE-STRUCTURED-LOCATION;VALUE=URI;X-ADDRESS=Haouch El Omara\, Centre Ha
 jj\, Zahle's Exit Main Road\, Bekaa\, Zahle\, 1801\, Lebanon;X-APPLE-RADIU
 S=100;X-TITLE=MYOPTIC by Sharbel Faraj:geo:33.833398060938826,35.913347345
 532316
END:VEVENT
BEGIN:VTIMEZONE
TZID:Europe/Amsterdam
X-LIC-LOCATION:Europe/Amsterdam
BEGIN:STANDARD
DTSTART:20181028T020000
TZOFFSETFROM:+0200
TZOFFSETTO:+0100
TZNAME:CET
END:STANDARD
END:VTIMEZONE
END:VCALENDAR