BEGIN:VCALENDAR
VERSION:2.0
PRODID:-//wp-events-plugin.com//7.2.3.1//EN
TZID:Europe/Amsterdam
X-WR-TIMEZONE:Europe/Amsterdam
BEGIN:VEVENT
UID:2011@worldglaucomaweek.org
DTSTART;TZID=Europe/Amsterdam:20180312T090000
DTEND;TZID=Europe/Amsterdam:20180312T110000
DTSTAMP:20180309T135423Z
URL:https://www.worldglaucomaweek.org/activity/free-screening-9/
SUMMARY:Free screening
DESCRIPTION:
CATEGORIES:Media coverage
LOCATION:Ashton Clinic\, Eden Lodge\, St. Michael\, Barbados
GEO:13.1392874;-59.61177580000003
X-APPLE-STRUCTURED-LOCATION;VALUE=URI;X-ADDRESS=Eden Lodge\, St. Michael\, 
 Barbados;X-APPLE-RADIUS=100;X-TITLE=Ashton Clinic:geo:13.1392874,-59.61177
 580000003
END:VEVENT
BEGIN:VTIMEZONE
TZID:Europe/Amsterdam
X-LIC-LOCATION:Europe/Amsterdam
BEGIN:STANDARD
DTSTART:20171029T020000
TZOFFSETFROM:+0200
TZOFFSETTO:+0100
TZNAME:CET
END:STANDARD
END:VTIMEZONE
END:VCALENDAR