BEGIN:VCALENDAR
VERSION:2.0
PRODID:-//wp-events-plugin.com//7.2.3.1//EN
TZID:Europe/Amsterdam
X-WR-TIMEZONE:Europe/Amsterdam
BEGIN:VEVENT
UID:2012@worldglaucomaweek.org
DTSTART;TZID=Europe/Amsterdam:20180314T080000
DTEND;TZID=Europe/Amsterdam:20180314T154500
DTSTAMP:20180309T135602Z
URL:https://www.worldglaucomaweek.org/activity/free-s/
SUMMARY:Free S
DESCRIPTION:
CATEGORIES:Media coverage
LOCATION:Anka Optical\, City Centre Mall\, Bridgetown\, Barbados
GEO:13.0982808;-59.6178094
X-APPLE-STRUCTURED-LOCATION;VALUE=URI;X-ADDRESS=City Centre Mall\, Bridgeto
 wn\, Barbados;X-APPLE-RADIUS=100;X-TITLE=Anka Optical:geo:13.0982808,-59.6
 178094
END:VEVENT
BEGIN:VTIMEZONE
TZID:Europe/Amsterdam
X-LIC-LOCATION:Europe/Amsterdam
BEGIN:STANDARD
DTSTART:20171029T020000
TZOFFSETFROM:+0200
TZOFFSETTO:+0100
TZNAME:CET
END:STANDARD
END:VTIMEZONE
END:VCALENDAR