BEGIN:VCALENDAR
VERSION:2.0
PRODID:-//wp-events-plugin.com//7.2.3.1//EN
TZID:Europe/Amsterdam
X-WR-TIMEZONE:Europe/Amsterdam
BEGIN:VEVENT
UID:2876@worldglaucomaweek.org
DTSTART;TZID=Europe/Amsterdam;VALUE=DATE:20190311
DTEND;TZID=Europe/Amsterdam;VALUE=DATE:20190317
DTSTAMP:20190312T100311Z
URL:https://www.worldglaucomaweek.org/activity/free-glaucoma-screening-tes
 t-2/
SUMMARY:Free Glaucoma Screening Test
DESCRIPTION:Our action name is "Polish ophthalmologists vs. glaucoma".\n\nE
 vents will be inaugurating on 5 March – Tuesday\, on the press conferenc
 e\, dedicated to journalist\, patients and their families.\n\nAcross the c
 ountry we would invite patients on the free screening for glaucoma. This e
 vent is dedicated especially patients who are not sick glaucoma and they h
 aven’t got an ophthalmologist visits at least  year. That day the actio
 n will take place from 10 th till 16 th in the selected medical facilities
 / clinics. During examination patient will be learn how to interpret the i
 mages and how they may assist in the management of glaucoma.\n\nAn active 
 participation of the participant is expected.\n\nMore information was publ
 ished on the website: www.tydzienjaskry.pl
CATEGORIES:Screening event
LOCATION:Polish Society of Ophthalmology\, Czerniakowska 231\, Warsaw\, Pol
 and\, 05-077\, Poland
GEO:52.22961549999999;21.032099199999948
X-APPLE-STRUCTURED-LOCATION;VALUE=URI;X-ADDRESS=Czerniakowska 231\, Warsaw\
 , Poland\, 05-077\, Poland;X-APPLE-RADIUS=100;X-TITLE=Polish Society of Op
 hthalmology:geo:52.22961549999999,21.032099199999948
END:VEVENT
BEGIN:VTIMEZONE
TZID:Europe/Amsterdam
X-LIC-LOCATION:Europe/Amsterdam
BEGIN:STANDARD
DTSTART:20181028T020000
TZOFFSETFROM:+0200
TZOFFSETTO:+0100
TZNAME:CET
END:STANDARD
END:VTIMEZONE
END:VCALENDAR