BEGIN:VCALENDAR
VERSION:2.0
PRODID:-//wp-events-plugin.com//7.2.3.1//EN
TZID:Europe/Amsterdam
X-WR-TIMEZONE:Europe/Amsterdam
BEGIN:VEVENT
UID:2904@worldglaucomaweek.org
DTSTART;TZID=Europe/Amsterdam:20190316T000000
DTEND;TZID=Europe/Amsterdam:20190316T170000
DTSTAMP:20190313T060948Z
URL:https://www.worldglaucomaweek.org/activity/free-glaucoma-screening-20/
SUMMARY:free glaucoma screening
DESCRIPTION:During The glaucoma week\, Ophtalmologists of Cheikh zaid will 
 organise a free glaucoma screening  open to all the staff  of the hospit
 al( around 1000 workers ) . this will be  the occasion to educate about t
 he risk of glaucoma and its consequences.\n\n&nbsp\;
CATEGORIES:Screening event
LOCATION:cheikh Zaid Hospital\, AL Irfane Instituts\, Rabat\, Rabat\, 10090
 \, Morocco
GEO:33.9891333;-6.857296700000006
X-APPLE-STRUCTURED-LOCATION;VALUE=URI;X-ADDRESS=AL Irfane Instituts\, Rabat
 \, Rabat\, 10090\, Morocco;X-APPLE-RADIUS=100;X-TITLE=cheikh Zaid Hospital
 :geo:33.9891333,-6.857296700000006
END:VEVENT
BEGIN:VTIMEZONE
TZID:Europe/Amsterdam
X-LIC-LOCATION:Europe/Amsterdam
BEGIN:STANDARD
DTSTART:20181028T020000
TZOFFSETFROM:+0200
TZOFFSETTO:+0100
TZNAME:CET
END:STANDARD
END:VTIMEZONE
END:VCALENDAR