BEGIN:VCALENDAR
VERSION:2.0
PRODID:-//wp-events-plugin.com//7.2.3.1//EN
TZID:Europe/Amsterdam
X-WR-TIMEZONE:Europe/Amsterdam
BEGIN:VEVENT
UID:2856@worldglaucomaweek.org
DTSTART;TZID=Europe/Amsterdam:20190311T090000
DTEND;TZID=Europe/Amsterdam:20190316T170000
DTSTAMP:20190311T111656Z
URL:https://www.worldglaucomaweek.org/activity/free-glaucoma-screening-18/
SUMMARY:Free Glaucoma Screening
DESCRIPTION:\nGlaucoma is a silent thief of sight. If you have a first-degr
 ee relative who has lost their vision to glaucoma or has been diagnosed wi
 th glaucoma or you are an African over the age of 40 then you should get s
 creened. \n\n\nLet's beat invisible glaucoma!! Go have your eyes tested. \
 n\n\nVisit our facility for free glaucoma screening as we mark world glauc
 oma week.\n\n\n\n\n
CATEGORIES:Screening event
LOCATION:Pearlmine Eyecare Center\, 59 Market Road Rumuomasi Port Harcourt\
 , Port Harcourt\, Rivers\, Nigeria
GEO:4.838208499999999;7.025857999999971
X-APPLE-STRUCTURED-LOCATION;VALUE=URI;X-ADDRESS=59 Market Road Rumuomasi Po
 rt Harcourt\, Port Harcourt\, Rivers\, Nigeria;X-APPLE-RADIUS=100;X-TITLE=
 Pearlmine Eyecare Center:geo:4.838208499999999,7.025857999999971
END:VEVENT
BEGIN:VTIMEZONE
TZID:Europe/Amsterdam
X-LIC-LOCATION:Europe/Amsterdam
BEGIN:STANDARD
DTSTART:20181028T020000
TZOFFSETFROM:+0200
TZOFFSETTO:+0100
TZNAME:CET
END:STANDARD
END:VTIMEZONE
END:VCALENDAR