BEGIN:VCALENDAR
VERSION:2.0
PRODID:-//wp-events-plugin.com//7.2.3.1//EN
TZID:Europe/Amsterdam
X-WR-TIMEZONE:Europe/Amsterdam
BEGIN:VEVENT
UID:3018@worldglaucomaweek.org
DTSTART;TZID=Europe/Amsterdam;VALUE=DATE:20190316
DTEND;TZID=Europe/Amsterdam;VALUE=DATE:20190317
DTSTAMP:20190401T143942Z
URL:https://www.worldglaucomaweek.org/activity/free-eye-screening/
SUMMARY:FREE EYE SCREENING
DESCRIPTION:The free screening program started with registration of partici
 pants in the early hours of the morning. A public education of participant
 s on glaucoma - Causes\, natural history\, risk factors\, treatment and ma
 nagement was done by an Ophthalmologist after which questions were taken. 
 Participants had their visual acuities and intraocular pressures measured 
 after which they were screened/examined by a doctor who made diagnosis aft
 er screening. Participants who were diagnosed as glaucoma cases and suspec
 ts were pulled together for counselling to ensure adequate follow up on th
 eir condition while Those who were glaucoma free were asked to repeat an e
 ye screening in a years' time. Some glaucoma cases were given free drugs w
 hile suspected participants were to come during the week to run confirmato
 ry investigations.
ATTACH;FMTTYPE=image/jpeg:https://www.worldglaucomaweek.org/wp-content/upl
 oads/2019/04/IMG-20190326-WA0015.jpg
CATEGORIES:Screening event
LOCATION:THE EYE SPECIALISTS HOSPITAL\, 11 CHURCH VIEW GRA \, ENUGU\, ENUGU
 \, 400009\, SOUTH EAST\, Nigeria
GEO:6.464771499999999;7.492947100000038
X-APPLE-STRUCTURED-LOCATION;VALUE=URI;X-ADDRESS=11 CHURCH VIEW GRA \, ENUGU
 \, ENUGU\, 400009\, SOUTH EAST\, Nigeria;X-APPLE-RADIUS=100;X-TITLE=THE EY
 E SPECIALISTS HOSPITAL:geo:6.464771499999999,7.492947100000038
END:VEVENT
BEGIN:VTIMEZONE
TZID:Europe/Amsterdam
X-LIC-LOCATION:Europe/Amsterdam
BEGIN:STANDARD
DTSTART:20181028T020000
TZOFFSETFROM:+0200
TZOFFSETTO:+0100
TZNAME:CET
END:STANDARD
END:VTIMEZONE
END:VCALENDAR