BEGIN:VCALENDAR
VERSION:2.0
PRODID:-//wp-events-plugin.com//7.2.3.1//EN
TZID:Europe/Amsterdam
X-WR-TIMEZONE:Europe/Amsterdam
BEGIN:VEVENT
UID:2916@worldglaucomaweek.org
DTSTART;TZID=Europe/Amsterdam:20190314T120000
DTEND;TZID=Europe/Amsterdam:20190314T140000
DTSTAMP:20190314T115001Z
URL:https://www.worldglaucomaweek.org/activity/free-coffee-and-glaucoma-sc
 reening/
SUMMARY:Free coffee and glaucoma screening
DESCRIPTION:Western Eye Hospital World Glaucoma Week 2019\n\nGlaucoma Educa
 tion Day\n\nDid you know that glaucoma is the leading cause of irreversibl
 e blindness in the world?\n\nThis Thursday (14 March 2019) only\, pop in f
 or a free hot drink and biscuits and have your eye pressure and optical co
 herence tomography (OCT) checked to raise awareness about the importance o
 f glaucoma testing.\n\n&nbsp\;
ATTACH;FMTTYPE=image/jpeg:https://www.worldglaucomaweek.org/wp-content/upl
 oads/2019/03/WGW2019small.jpg
CATEGORIES:Screening event
LOCATION:Imperial College Ophthalmology Research Group\, 3rd Flr\, Above A&
 amp\;E\, Imperial College Ophthalmology Research Group Clinical Trials Uni
 t\, Western Eye Hospital\, 153 - 173 Marylebone Road\, London\, England\, 
 NW1 5QH\, England\, United Kingdom
GEO:51.5209599;-0.1631631999999854
X-APPLE-STRUCTURED-LOCATION;VALUE=URI;X-ADDRESS=Imperial College Ophthalmol
 ogy Research Group Clinical Trials Unit\, Western Eye Hospital\, 153 - 173
  Marylebone Road\, London\, England\, NW1 5QH\, England\, United Kingdom;X
 -APPLE-RADIUS=100;X-TITLE=Imperial College Ophthalmology Research Group\, 
 3rd Flr\, Above A&E:geo:51.5209599,-0.1631631999999854
END:VEVENT
BEGIN:VTIMEZONE
TZID:Europe/Amsterdam
X-LIC-LOCATION:Europe/Amsterdam
BEGIN:STANDARD
DTSTART:20181028T020000
TZOFFSETFROM:+0200
TZOFFSETTO:+0100
TZNAME:CET
END:STANDARD
END:VTIMEZONE
END:VCALENDAR