BEGIN:VCALENDAR
VERSION:2.0
PRODID:-//wp-events-plugin.com//7.2.3.1//EN
TZID:Europe/Amsterdam
X-WR-TIMEZONE:Europe/Amsterdam
BEGIN:VEVENT
UID:1708@worldglaucomaweek.org
DTSTART;TZID=Europe/Amsterdam:20180310T090000
DTEND;TZID=Europe/Amsterdam:20180310T160000
DTSTAMP:20180228T131742Z
URL:https://www.worldglaucomaweek.org/activity/for-zayed-we-walk-to-preven
 t-glaucoma-uae-2018/
SUMMARY:For Zayed\, We Walk to Prevent Glaucoma UAE 2018
DESCRIPTION:The Emirates Medical Association – Society of Ophthalmology\,
  in its continuous effort to contribute to the social development of UAE c
 ommunities\, is organizing a health educational campaign\, in support with
  MILITARY SERVICES CORPS.\n\nIn celebration of the World Glaucoma Week\, t
 he event is titled ‘For Zayed\, We Walk to Prevent Glaucoma’ with an a
 im to raise awareness about Glaucoma and as part of the Year of Zayed init
 iative for 2018.\n\nThis event will be conducted by the members of the soc
 iety in the field of Ophthalmology\, to share their knowledge of the topic
  with a set of interactive activities including but not limited to the fol
 lowing: \n\n• Outdoor Fun Run / Walk Activity\n• Health Educational Le
 cture Booth discussing Glaucoma and other related eye blinding disorders\n
 • Live Experience with Glaucoma Goggles and White Cane\n• Fundus Photo
  Camera Eye Screening\n• Sports Activities\, [video width="640" height="
 368" mp4="https://www.worldglaucomaweek.org/wp-content/uploads/2018/02/Vid
 eo-from-Maged-Kassem-UAE.mp4"][/video]Games\, Stage Programs and Entertain
 ment\n• Awarding Ceremony
ATTACH;FMTTYPE=image/jpeg:https://www.worldglaucomaweek.org/wp-content/upl
 oads/2018/02/Screen-Shot-2018-02-21-at-6.53.56-PM.png
CATEGORIES:Awareness
LOCATION:Abu Dhabi\, UAE\, Yas Island\, Abu Dhabi\, United Arab Emirates\, 
 United Arab Emirates
GEO:24.4958385;54.60401209999998
X-APPLE-STRUCTURED-LOCATION;VALUE=URI;X-ADDRESS=Yas Island\, Abu Dhabi\, Un
 ited Arab Emirates\, United Arab Emirates;X-APPLE-RADIUS=100;X-TITLE=Abu D
 habi\, UAE:geo:24.4958385,54.60401209999998
END:VEVENT
BEGIN:VTIMEZONE
TZID:Europe/Amsterdam
X-LIC-LOCATION:Europe/Amsterdam
BEGIN:STANDARD
DTSTART:20171029T020000
TZOFFSETFROM:+0200
TZOFFSETTO:+0100
TZNAME:CET
END:STANDARD
END:VTIMEZONE
END:VCALENDAR