BEGIN:VCALENDAR
VERSION:2.0
PRODID:-//wp-events-plugin.com//7.2.3.1//EN
TZID:Europe/Amsterdam
X-WR-TIMEZONE:Europe/Amsterdam
BEGIN:VEVENT
UID:2211@worldglaucomaweek.org
DTSTART;TZID=Europe/Amsterdam:20180312T080000
DTEND;TZID=Europe/Amsterdam:20180316T160000
DTSTAMP:20180314T165534Z
URL:https://www.worldglaucomaweek.org/activity/five-days-of-our-glaucoma-w
 eek-and-ambulatory-cabinet-for-screening-of-glaucoma/
SUMMARY:Five days of our Glaucoma Week and ambulatory/cabinet for Screening
  of Glaucoma
DESCRIPTION:The following Glaucoma activities are planned (Be a part of it 
 – this is how):\n- Five days of our Glaucoma Week and ambulatory/cabinet
  for Screening of Glaucoma (early glaucoma\ndetection in risk groups and g
 eneral population) during the morning shift\, from 12-14 hours at Clinic o
 f\nOphthalmology Clinical Center Kragujevac in Serbia\, where all ophthalm
 ologists (including all of young on the\nspecialization) of mentioned inst
 itution are invited (free of charge and without appropriate medical docume
 ntation\nfor measurement of IOP).\n- Five days of this clinical observatio
 ns of detected glaucoma-patients and risk-individuals of glaucoma\, in the
 \nsame terms\, from 13-15 hours\, on the 7\nth\nfloor at the Clinic of Oph
 talmology Clinical Center Kragujevac in Serbia\,\nwhere the glaucomatologi
 sts of mentioned institutions participate.\n- Educational lecture by full 
 professor Dr. Mirjana A Janicijevic Petrovic in our referent institutions\
 , on the topic\nof "Current Guideline of Glaucoma Disease" in the period o
 f World Glaucoma Week for all interested\nlisteners/individuals/patients (
 free-actions to mark our Glaucoma Week).\n- Glaucoma activities will be pu
 blished in our mass-media of medicine at the regional level\, on TV-Kraguj
 evac in\nSerbia\, directly related to glaucoma-events and to learn about t
 he mentioned of our activities in social media\nchannels\; and with our vi
 deo-glaucoma-events of Glaucoma Week\, which will be forwarded and archive
 d to the\ncompetent - to the Association of Serbian Glaucomatologi
CATEGORIES:Media coverage
LOCATION:Ophthalmology Clinic\, Clinical Center Kragujevac\, Zmaj Jovina 30
 \, Kragujevac\, Serbia\, 34000\, Serbia
GEO:44.0186285;20.913893799999983
X-APPLE-STRUCTURED-LOCATION;VALUE=URI;X-ADDRESS=Zmaj Jovina 30\, Kragujevac
 \, Serbia\, 34000\, Serbia;X-APPLE-RADIUS=100;X-TITLE=Ophthalmology Clinic
 \, Clinical Center Kragujevac:geo:44.0186285,20.913893799999983
END:VEVENT
BEGIN:VTIMEZONE
TZID:Europe/Amsterdam
X-LIC-LOCATION:Europe/Amsterdam
BEGIN:STANDARD
DTSTART:20171029T020000
TZOFFSETFROM:+0200
TZOFFSETTO:+0100
TZNAME:CET
END:STANDARD
END:VTIMEZONE
END:VCALENDAR