BEGIN:VCALENDAR
VERSION:2.0
PRODID:-//wp-events-plugin.com//7.2.3.1//EN
TZID:Europe/Amsterdam
X-WR-TIMEZONE:Europe/Amsterdam
BEGIN:VEVENT
UID:2851@worldglaucomaweek.org
DTSTART;TZID=Europe/Amsterdam:20190315T133000
DTEND;TZID=Europe/Amsterdam:20190315T153000
DTSTAMP:20190311T090931Z
URL:https://www.worldglaucomaweek.org/activity/eye-hospital-zora/
SUMMARY:Eye Hospital Zora
DESCRIPTION:
CATEGORIES:Screening event
LOCATION:Bulgaria\, ул. „Петър Протич“ 4\, 1784 кв. По
 лигона\, София\, Sofia\, Bulgaria\, 1784\, Sofia\, Bulgaria
GEO:42.6641716;23.382140299999946
X-APPLE-STRUCTURED-LOCATION;VALUE=URI;X-ADDRESS=ул. „Петър Про
 тич“ 4\, 1784 кв. Полигона\, София\, Sofia\, Bulgaria\
 , 1784\, Sofia\, Bulgaria;X-APPLE-RADIUS=100;X-TITLE=Bulgaria:geo:42.66417
 16,23.382140299999946
END:VEVENT
BEGIN:VTIMEZONE
TZID:Europe/Amsterdam
X-LIC-LOCATION:Europe/Amsterdam
BEGIN:STANDARD
DTSTART:20181028T020000
TZOFFSETFROM:+0200
TZOFFSETTO:+0100
TZNAME:CET
END:STANDARD
END:VTIMEZONE
END:VCALENDAR