BEGIN:VCALENDAR
VERSION:2.0
PRODID:-//wp-events-plugin.com//7.2.3.1//EN
TZID:Europe/Amsterdam
X-WR-TIMEZONE:Europe/Amsterdam
BEGIN:VEVENT
UID:2853@worldglaucomaweek.org
DTSTART;TZID=Europe/Amsterdam;VALUE=DATE:20190325
DTEND;TZID=Europe/Amsterdam;VALUE=DATE:20190330
DTSTAMP:20190311T093607Z
URL:https://www.worldglaucomaweek.org/activity/eye-hospital-dr-ivanovi/
SUMMARY:Eye Hospital "Dr Ivanovi"
DESCRIPTION:
CATEGORIES:Screening event
LOCATION:Bulgaria\, Бургас\, жк. Славейков 174\, До Сп
 ортна Зала Младост\, ул. „Георги Минков“
 \, 8005 Бургас\, Burgas\, Bulgaria\, 8005\, Burgas\, Bulgaria
GEO:42.518726;27.457177
X-APPLE-STRUCTURED-LOCATION;VALUE=URI;X-ADDRESS=Бургас\, жк. Сла
 вейков 174\, До Спортна Зала Младост\, ул. „
 Георги Минков“\, 8005 Бургас\, Burgas\, Bulgaria\, 800
 5\, Burgas\, Bulgaria;X-APPLE-RADIUS=100;X-TITLE=Bulgaria:geo:42.518726,27
 .457177
END:VEVENT
BEGIN:VTIMEZONE
TZID:Europe/Amsterdam
X-LIC-LOCATION:Europe/Amsterdam
BEGIN:STANDARD
DTSTART:20181028T020000
TZOFFSETFROM:+0200
TZOFFSETTO:+0100
TZNAME:CET
END:STANDARD
END:VTIMEZONE
END:VCALENDAR