BEGIN:VCALENDAR
VERSION:2.0
PRODID:-//wp-events-plugin.com//7.2.3.1//EN
TZID:Europe/Amsterdam
X-WR-TIMEZONE:Europe/Amsterdam
BEGIN:VEVENT
UID:2744@worldglaucomaweek.org
DTSTART;TZID=Europe/Amsterdam;VALUE=DATE:20190309
DTEND;TZID=Europe/Amsterdam;VALUE=DATE:20190317
DTSTAMP:20190311T224621Z
URL:https://www.worldglaucomaweek.org/activity/eye-associates-world-glauco
 ma-week/
SUMMARY:Eye Associates: World Glaucoma Week
DESCRIPTION:World Glaucoma Week starts on the 10th-16th of March here at Ey
 e Associates\, Sydney! #glaucomaweek\n\n"Glaucoma is infamous as ‘the sn
 eak thief of sight’: the most common types give no warning they are slow
 ly\, progressively destroying a person’s vision. Because usually the vis
 ion at first is affected to the side\, patients notice little\, if anythin
 g. By the time an individual realises something is wrong\, there may have 
 been considerable damage".\n\nPreface taken from ‘Glaucoma How to Save Y
 our Sight’ by Ivan Goldberg &amp\; Remo Susanna Jr.
ATTACH;FMTTYPE=image/jpeg:https://www.worldglaucomaweek.org/wp-content/upl
 oads/2019/03/WorldGlaucomaWeek2019.png
CATEGORIES:Public educational
LOCATION:Eye Associates\, 187 Macquarie st\, Sydney\, NSW\, 2000\, Australi
 a
GEO:-33.8669558;151.21205829999997
X-APPLE-STRUCTURED-LOCATION;VALUE=URI;X-ADDRESS=187 Macquarie st\, Sydney\,
  NSW\, 2000\, Australia;X-APPLE-RADIUS=100;X-TITLE=Eye Associates:geo:-33.
 8669558,151.21205829999997
END:VEVENT
BEGIN:VTIMEZONE
TZID:Europe/Amsterdam
X-LIC-LOCATION:Europe/Amsterdam
BEGIN:STANDARD
DTSTART:20181028T020000
TZOFFSETFROM:+0200
TZOFFSETTO:+0100
TZNAME:CET
END:STANDARD
END:VTIMEZONE
END:VCALENDAR