BEGIN:VCALENDAR
VERSION:2.0
PRODID:-//wp-events-plugin.com//7.2.3.1//EN
TZID:Europe/Amsterdam
X-WR-TIMEZONE:Europe/Amsterdam
BEGIN:VEVENT
UID:2378@worldglaucomaweek.org
DTSTART;TZID=Europe/Amsterdam:20190212T000000
DTEND;TZID=Europe/Amsterdam:20190215T013000
DTSTAMP:20190222T112656Z
URL:https://www.worldglaucomaweek.org/activity/exibition-abaout-glaucoma/
SUMMARY:Exibition - abaout glaucoma
DESCRIPTION:
CATEGORIES:Public educational
LOCATION:Gradska Loža Zadar\, Narodni trg\, Zadar\, Croatia\, 23000\, Croa
 tia
GEO:44.11403;15.22748869999998
X-APPLE-STRUCTURED-LOCATION;VALUE=URI;X-ADDRESS=Narodni trg\, Zadar\, Croat
 ia\, 23000\, Croatia;X-APPLE-RADIUS=100;X-TITLE=Gradska Loža Zadar:geo:44
 .11403,15.22748869999998
END:VEVENT
BEGIN:VTIMEZONE
TZID:Europe/Amsterdam
X-LIC-LOCATION:Europe/Amsterdam
BEGIN:STANDARD
DTSTART:20181028T020000
TZOFFSETFROM:+0200
TZOFFSETTO:+0100
TZNAME:CET
END:STANDARD
END:VTIMEZONE
END:VCALENDAR