BEGIN:VCALENDAR
VERSION:2.0
PRODID:-//wp-events-plugin.com//7.2.3.1//EN
TZID:Europe/Amsterdam
X-WR-TIMEZONE:Europe/Amsterdam
BEGIN:VEVENT
UID:2935@worldglaucomaweek.org
DTSTART;TZID=Europe/Amsterdam;VALUE=DATE:20190310
DTEND;TZID=Europe/Amsterdam;VALUE=DATE:20190311
DTSTAMP:20190314T152930Z
URL:https://www.worldglaucomaweek.org/activity/estadio-partido-junior-buca
 ramanga-nuestro-ojo-y-willy-mensaje-10-de-marzo-con-pancarta-semana-mundia
 l-de-glaucoma/
SUMMARY:"Estadio Partido Junior - Bucaramanga. Nuestro Ojo  y Willy- Mensaj
 e (10 de marzo) con pancarta   Semana Mundial de Glaucoma."
DESCRIPTION:
CATEGORIES:Other
LOCATION:Estadio Metropolitano Roberto Meléndez\, Estadio Metropolitano Ro
 berto Meléndez\, Barranquilla\, Colombia
GEO:10.9269769;-74.80054289999998
X-APPLE-STRUCTURED-LOCATION;VALUE=URI;X-ADDRESS=Estadio Metropolitano Rober
 to Meléndez\, Barranquilla\, Colombia;X-APPLE-RADIUS=100;X-TITLE=Estadio 
 Metropolitano Roberto Meléndez:geo:10.9269769,-74.80054289999998
END:VEVENT
BEGIN:VTIMEZONE
TZID:Europe/Amsterdam
X-LIC-LOCATION:Europe/Amsterdam
BEGIN:STANDARD
DTSTART:20181028T020000
TZOFFSETFROM:+0200
TZOFFSETTO:+0100
TZNAME:CET
END:STANDARD
END:VTIMEZONE
END:VCALENDAR