BEGIN:VCALENDAR
VERSION:2.0
PRODID:-//wp-events-plugin.com//7.2.3.1//EN
TZID:Europe/Amsterdam
X-WR-TIMEZONE:Europe/Amsterdam
BEGIN:VEVENT
UID:2600@worldglaucomaweek.org
DTSTART;TZID=Europe/Amsterdam:20190312T083000
DTEND;TZID=Europe/Amsterdam:20190315T170000
DTSTAMP:20190304T084120Z
URL:https://www.worldglaucomaweek.org/activity/eskisehir-osmangazi-univers
 ity-eye-clinic-screening-event-3/
SUMMARY:Eskisehir Osmangazi University Eye Clinic Screening Event
DESCRIPTION:
ATTACH;FMTTYPE=image/jpeg:https://www.worldglaucomaweek.org/wp-content/upl
 oads/2019/03/IMG_9462.jpg
CATEGORIES:Media coverage
LOCATION:Eskisehir Osmangazi University\, Meselik Campus\, Eskisehir\, 2648
 0\, Turkey
GEO:39.7667061;30.525631100000055
X-APPLE-STRUCTURED-LOCATION;VALUE=URI;X-ADDRESS=Meselik Campus\, Eskisehir\
 , 26480\, Turkey;X-APPLE-RADIUS=100;X-TITLE=Eskisehir Osmangazi University
 :geo:39.7667061,30.525631100000055
END:VEVENT
BEGIN:VTIMEZONE
TZID:Europe/Amsterdam
X-LIC-LOCATION:Europe/Amsterdam
BEGIN:STANDARD
DTSTART:20181028T020000
TZOFFSETFROM:+0200
TZOFFSETTO:+0100
TZNAME:CET
END:STANDARD
END:VTIMEZONE
END:VCALENDAR